BEGIN:VCALENDAR
VERSION:2.0
PRODID:-//Sweet Peas Village - ECPv6.15.17.1//NONSGML v1.0//EN
CALSCALE:GREGORIAN
METHOD:PUBLISH
X-WR-CALNAME:Sweet Peas Village
X-ORIGINAL-URL:https://sweetpeasvillage.com
X-WR-CALDESC:Events for Sweet Peas Village
REFRESH-INTERVAL;VALUE=DURATION:PT1H
X-Robots-Tag:noindex
X-PUBLISHED-TTL:PT1H
BEGIN:VTIMEZONE
TZID:America/New_York
BEGIN:DAYLIGHT
TZOFFSETFROM:-0500
TZOFFSETTO:-0400
TZNAME:EDT
DTSTART:20150308T070000
END:DAYLIGHT
BEGIN:STANDARD
TZOFFSETFROM:-0400
TZOFFSETTO:-0500
TZNAME:EST
DTSTART:20151101T060000
END:STANDARD
BEGIN:DAYLIGHT
TZOFFSETFROM:-0500
TZOFFSETTO:-0400
TZNAME:EDT
DTSTART:20160313T070000
END:DAYLIGHT
BEGIN:STANDARD
TZOFFSETFROM:-0400
TZOFFSETTO:-0500
TZNAME:EST
DTSTART:20161106T060000
END:STANDARD
BEGIN:DAYLIGHT
TZOFFSETFROM:-0500
TZOFFSETTO:-0400
TZNAME:EDT
DTSTART:20170312T070000
END:DAYLIGHT
BEGIN:STANDARD
TZOFFSETFROM:-0400
TZOFFSETTO:-0500
TZNAME:EST
DTSTART:20171105T060000
END:STANDARD
BEGIN:DAYLIGHT
TZOFFSETFROM:-0500
TZOFFSETTO:-0400
TZNAME:EDT
DTSTART:20180311T070000
END:DAYLIGHT
BEGIN:STANDARD
TZOFFSETFROM:-0400
TZOFFSETTO:-0500
TZNAME:EST
DTSTART:20181104T060000
END:STANDARD
END:VTIMEZONE
BEGIN:VEVENT
DTSTART;VALUE=DATE:20170620
DTEND;VALUE=DATE:20170621
DTSTAMP:20260421T084423
CREATED:20170330T142325Z
LAST-MODIFIED:20170330T142325Z
UID:875-1497916800-1498003199@sweetpeasvillage.com
SUMMARY:Peanut Graduations
DESCRIPTION:Join us for you Graduation Celebrations! \n10:00am Village Peanuts \n2:00pm Annex Peanuts
URL:https://sweetpeasvillage.com/event/peanut-graduations/
LOCATION:Sweet Peas Village\, 836 Middle Road\, East Greenwich\, 02818\, United States
END:VEVENT
BEGIN:VEVENT
DTSTART;VALUE=DATE:20170601
DTEND;VALUE=DATE:20170602
DTSTAMP:20260421T084423
CREATED:20170530T134819Z
LAST-MODIFIED:20170530T134837Z
UID:939-1496275200-1496361599@sweetpeasvillage.com
SUMMARY:Wild Harvest Lunch Menu
DESCRIPTION:Please click below for our monthly lunch menu! \nJune Lunch Menu
URL:https://sweetpeasvillage.com/event/wild-harvest-lunch-menu-9/
LOCATION:Sweet Peas Village\, 836 Middle Road\, East Greenwich\, 02818\, United States
END:VEVENT
BEGIN:VEVENT
DTSTART;VALUE=DATE:20170601
DTEND;VALUE=DATE:20170602
DTSTAMP:20260421T084423
CREATED:20170605T144228Z
LAST-MODIFIED:20170605T144228Z
UID:947-1496275200-1496361599@sweetpeasvillage.com
SUMMARY:June Box Top Collection Sheet
DESCRIPTION:Use our June Box Top collection sheet to keep track of your box tops!  Happy snipping! \nBoxTops
URL:https://sweetpeasvillage.com/event/june-box-top-collection-sheet/
LOCATION:Sweet Peas Village\, 836 Middle Road\, East Greenwich\, 02818\, United States
END:VEVENT
BEGIN:VEVENT
DTSTART;VALUE=DATE:20170601
DTEND;VALUE=DATE:20170602
DTSTAMP:20260421T084423
CREATED:20170605T144132Z
LAST-MODIFIED:20170605T144132Z
UID:943-1496275200-1496361599@sweetpeasvillage.com
SUMMARY:June Newsletter
DESCRIPTION:Click below for our May Newsletter \nJune Newsletter
URL:https://sweetpeasvillage.com/event/june-newsletter/
LOCATION:Sweet Peas Village\, 836 Middle Road\, East Greenwich\, 02818\, United States
END:VEVENT
BEGIN:VEVENT
DTSTART;VALUE=DATE:20170529
DTEND;VALUE=DATE:20170530
DTSTAMP:20260421T084423
CREATED:20161220T133436Z
LAST-MODIFIED:20161220T133436Z
UID:815-1496016000-1496102399@sweetpeasvillage.com
SUMMARY:Memorial Day - SPV Closed
DESCRIPTION:
URL:https://sweetpeasvillage.com/event/memorial-day-spv-closed-2/
LOCATION:Sweet Peas Village\, 836 Middle Road\, East Greenwich\, 02818\, United States
END:VEVENT
BEGIN:VEVENT
DTSTART;TZID=America/New_York:20170515T080000
DTEND;TZID=America/New_York:20170519T170000
DTSTAMP:20260421T084423
CREATED:20170330T140156Z
LAST-MODIFIED:20170330T140156Z
UID:859-1494835200-1495213200@sweetpeasvillage.com
SUMMARY:Scholastic Book Fair
DESCRIPTION:
URL:https://sweetpeasvillage.com/event/scholastic-book-fair-2/
LOCATION:Sweet Peas Village\, 836 Middle Road\, East Greenwich\, 02818\, United States
END:VEVENT
BEGIN:VEVENT
DTSTART;TZID=America/New_York:20170505T173000
DTEND;TZID=America/New_York:20170505T193000
DTSTAMP:20260421T084423
CREATED:20170330T140041Z
LAST-MODIFIED:20170330T140041Z
UID:856-1494005400-1494012600@sweetpeasvillage.com
SUMMARY:Gallery Night @ T's Restaurant
DESCRIPTION:Join us for our annual Gallery Night to conclude the Art Show!  Our Sunshines & Pre-K classes have been working to paint a class canvases which will be auctioned off!
URL:https://sweetpeasvillage.com/event/gallery-night-ts-restaurant/
LOCATION:Sweet Peas Village\, 836 Middle Road\, East Greenwich\, 02818\, United States
END:VEVENT
BEGIN:VEVENT
DTSTART;TZID=America/New_York:20170502T080000
DTEND;TZID=America/New_York:20170505T170000
DTSTAMP:20260421T084423
CREATED:20170330T134436Z
LAST-MODIFIED:20170330T134436Z
UID:852-1493712000-1494003600@sweetpeasvillage.com
SUMMARY:Annual Art Show @ T's Restaurant
DESCRIPTION:Join us for our Annual Art Show & Gallery Night!  Our young Sunshine and Pre-K artists will have their art work displayed at T’s Restaurant in East Greenwich!
URL:https://sweetpeasvillage.com/event/annual-art-show-ts-restaurant/
LOCATION:Sweet Peas Village\, 836 Middle Road\, East Greenwich\, 02818\, United States
END:VEVENT
BEGIN:VEVENT
DTSTART;VALUE=DATE:20170501
DTEND;VALUE=DATE:20170502
DTSTAMP:20260421T084423
CREATED:20170503T140908Z
LAST-MODIFIED:20170503T140920Z
UID:922-1493596800-1493683199@sweetpeasvillage.com
SUMMARY:May Box Top Collection Sheet
DESCRIPTION:Use our April Box Top collection sheet to keep track of your box tops!  Happy snipping! \nBoxTops
URL:https://sweetpeasvillage.com/event/may-box-top-collection-sheet/
LOCATION:Sweet Peas Village\, 836 Middle Road\, East Greenwich\, 02818\, United States
END:VEVENT
BEGIN:VEVENT
DTSTART;VALUE=DATE:20170501
DTEND;VALUE=DATE:20170502
DTSTAMP:20260421T084423
CREATED:20170503T140606Z
LAST-MODIFIED:20170503T140606Z
UID:918-1493596800-1493683199@sweetpeasvillage.com
SUMMARY:May Newsletter
DESCRIPTION:Click below for our May Newsletter \nMay Newsletter
URL:https://sweetpeasvillage.com/event/may-newsletter/
LOCATION:Sweet Peas Village\, 836 Middle Road\, East Greenwich\, 02818\, United States
END:VEVENT
BEGIN:VEVENT
DTSTART;VALUE=DATE:20170501
DTEND;VALUE=DATE:20170502
DTSTAMP:20260421T084423
CREATED:20170424T160542Z
LAST-MODIFIED:20170424T160542Z
UID:914-1493596800-1493683199@sweetpeasvillage.com
SUMMARY:Wild Harvest Lunch Menu
DESCRIPTION:Please click below for our monthly lunch menu! \nMay Lunch Menu
URL:https://sweetpeasvillage.com/event/wild-harvest-lunch-menu-8/
LOCATION:Sweet Peas Village\, 836 Middle Road\, East Greenwich\, 02818\, United States
END:VEVENT
BEGIN:VEVENT
DTSTART;TZID=America/New_York:20170424T080000
DTEND;TZID=America/New_York:20170428T170000
DTSTAMP:20260421T084423
CREATED:20161118T181602Z
LAST-MODIFIED:20170330T141833Z
UID:779-1493020800-1493398800@sweetpeasvillage.com
SUMMARY:Week Of The Young Child
DESCRIPTION:The Week of the Young Child is a nationally recognized celebration that focuses on promoting the rights and needs of young children in our community!  We have exciting festivities all week long to celebrate early childhood education! \nWeek of the Young Child Events \nSpirit Week
URL:https://sweetpeasvillage.com/event/week-young-child-2/
LOCATION:Sweet Peas Village\, 836 Middle Road\, East Greenwich\, 02818\, United States
END:VEVENT
BEGIN:VEVENT
DTSTART;VALUE=DATE:20170401
DTEND;VALUE=DATE:20170402
DTSTAMP:20260421T084423
CREATED:20170330T165806Z
LAST-MODIFIED:20170330T165806Z
UID:909-1491004800-1491091199@sweetpeasvillage.com
SUMMARY:Wild Harvest Lunch Menu
DESCRIPTION:Please click below for our monthly lunch menu! \nMonthly Calendar
URL:https://sweetpeasvillage.com/event/wild-harvest-lunch-menu-7/
LOCATION:Sweet Peas Village\, 836 Middle Road\, East Greenwich\, 02818\, United States
END:VEVENT
BEGIN:VEVENT
DTSTART;VALUE=DATE:20170401
DTEND;VALUE=DATE:20170402
DTSTAMP:20260421T084423
CREATED:20170330T143939Z
LAST-MODIFIED:20170330T143939Z
UID:894-1491004800-1491091199@sweetpeasvillage.com
SUMMARY:April Newsletter
DESCRIPTION:Click below for our April Newsletter! \nApril 2017
URL:https://sweetpeasvillage.com/event/april-newsletter/
LOCATION:Sweet Peas Village\, 836 Middle Road\, East Greenwich\, 02818\, United States
END:VEVENT
BEGIN:VEVENT
DTSTART;VALUE=DATE:20170401
DTEND;VALUE=DATE:20170402
DTSTAMP:20260421T084423
CREATED:20170330T132219Z
LAST-MODIFIED:20170330T132219Z
UID:848-1491004800-1491091199@sweetpeasvillage.com
SUMMARY:Box Top Collection
DESCRIPTION:Use our April Box Top collection sheet to keep track of your box tops!  Happy snipping! \nBoxTops
URL:https://sweetpeasvillage.com/event/box-top-collection/
LOCATION:Sweet Peas Village\, 836 Middle Road\, East Greenwich\, 02818\, United States
END:VEVENT
BEGIN:VEVENT
DTSTART;VALUE=DATE:20170314
DTEND;VALUE=DATE:20170317
DTSTAMP:20260421T084423
CREATED:20170208T164817Z
LAST-MODIFIED:20170208T164817Z
UID:839-1489449600-1489708799@sweetpeasvillage.com
SUMMARY:Sara Zarrella Photography - Spring Photos
DESCRIPTION:
URL:https://sweetpeasvillage.com/event/sara-zarrella-photography-spring-photos/
LOCATION:Sweet Peas Village\, 836 Middle Road\, East Greenwich\, 02818\, United States
END:VEVENT
BEGIN:VEVENT
DTSTART;VALUE=DATE:20170301
DTEND;VALUE=DATE:20170302
DTSTAMP:20260421T084423
CREATED:20170301T220622Z
LAST-MODIFIED:20170301T220622Z
UID:843-1488326400-1488412799@sweetpeasvillage.com
SUMMARY:Wild Harvest Lunch Menu
DESCRIPTION:Please click below for our monthly lunch menu! \nMonthly Calendar
URL:https://sweetpeasvillage.com/event/wild-harvest-lunch-menu-6/
LOCATION:Sweet Peas Village\, 836 Middle Road\, East Greenwich\, 02818\, United States
END:VEVENT
BEGIN:VEVENT
DTSTART;VALUE=DATE:20170201
DTEND;VALUE=DATE:20170202
DTSTAMP:20260421T084423
CREATED:20170130T203426Z
LAST-MODIFIED:20170130T203455Z
UID:832-1485907200-1485993599@sweetpeasvillage.com
SUMMARY:Wild Harvest Lunch Menu
DESCRIPTION:Please click the link below for our monthly lunch menu! \nFebruary Calendar
URL:https://sweetpeasvillage.com/event/wild-harvest-lunch-menu-5/
LOCATION:Sweet Peas Village\, 836 Middle Road\, East Greenwich\, 02818\, United States
END:VEVENT
BEGIN:VEVENT
DTSTART;VALUE=DATE:20170116
DTEND;VALUE=DATE:20170117
DTSTAMP:20260421T084423
CREATED:20161118T181419Z
LAST-MODIFIED:20161118T181419Z
UID:776-1484524800-1484611199@sweetpeasvillage.com
SUMMARY:Martin Luther King Day - SPV Closed
DESCRIPTION:
URL:https://sweetpeasvillage.com/event/martin-luther-king-day-spv-closed/
LOCATION:Sweet Peas Village\, 836 Middle Road\, East Greenwich\, 02818\, United States
END:VEVENT
BEGIN:VEVENT
DTSTART;VALUE=DATE:20170102
DTEND;VALUE=DATE:20170103
DTSTAMP:20260421T084423
CREATED:20161118T181333Z
LAST-MODIFIED:20161118T181333Z
UID:773-1483315200-1483401599@sweetpeasvillage.com
SUMMARY:Happy New Year - SPV Closed
DESCRIPTION:
URL:https://sweetpeasvillage.com/event/happy-new-year-spv-closed/
LOCATION:Sweet Peas Village\, 836 Middle Road\, East Greenwich\, 02818\, United States
END:VEVENT
BEGIN:VEVENT
DTSTART;VALUE=DATE:20170101
DTEND;VALUE=DATE:20170102
DTSTAMP:20260421T084423
CREATED:20161230T133702Z
LAST-MODIFIED:20161230T133702Z
UID:822-1483228800-1483315199@sweetpeasvillage.com
SUMMARY:Wild Harvest Lunch Menu
DESCRIPTION:Please click the link below for our monthly lunch menu! \nJanuary Calendar
URL:https://sweetpeasvillage.com/event/wild-harvest-lunch-menu-4/
LOCATION:Sweet Peas Village\, 836 Middle Road\, East Greenwich\, 02818\, United States
END:VEVENT
BEGIN:VEVENT
DTSTART;VALUE=DATE:20161226
DTEND;VALUE=DATE:20161227
DTSTAMP:20260421T084423
CREATED:20160930T180652Z
LAST-MODIFIED:20160930T180652Z
UID:724-1482710400-1482796799@sweetpeasvillage.com
SUMMARY:Christmas - SPV Closed
DESCRIPTION:
URL:https://sweetpeasvillage.com/event/christmas-spv-closed/
LOCATION:Sweet Peas Village\, 836 Middle Road\, East Greenwich\, 02818\, United States
END:VEVENT
BEGIN:VEVENT
DTSTART;TZID=America/New_York:20161223T140000
DTEND;TZID=America/New_York:20161223T153000
DTSTAMP:20260421T084423
CREATED:20160930T180553Z
LAST-MODIFIED:20161114T174804Z
UID:722-1482501600-1482507000@sweetpeasvillage.com
SUMMARY:Holiday Party - SPV closes at 3:30pm
DESCRIPTION:
URL:https://sweetpeasvillage.com/event/holiday-party-spv-closes-330pm/
LOCATION:Sweet Peas Village\, 836 Middle Road\, East Greenwich\, 02818\, United States
END:VEVENT
BEGIN:VEVENT
DTSTART;VALUE=DATE:20161201
DTEND;VALUE=DATE:20161202
DTSTAMP:20260421T084423
CREATED:20161128T130903Z
LAST-MODIFIED:20161128T130903Z
UID:783-1480550400-1480636799@sweetpeasvillage.com
SUMMARY:Wild Harvest Lunch Menu
DESCRIPTION:Please click the link below for our monthly lunch menu! \nDecember Calendar
URL:https://sweetpeasvillage.com/event/wild-harvest-lunch-menu-3/
LOCATION:Sweet Peas Village\, 836 Middle Road\, East Greenwich\, 02818\, United States
END:VEVENT
BEGIN:VEVENT
DTSTART;TZID=America/New_York:20161124T080000
DTEND;TZID=America/New_York:20161125T170000
DTSTAMP:20260421T084423
CREATED:20160930T180632Z
LAST-MODIFIED:20160930T180632Z
UID:723-1479974400-1480093200@sweetpeasvillage.com
SUMMARY:Thanksgiving - SPV Closed
DESCRIPTION:
URL:https://sweetpeasvillage.com/event/thanksgiving-spv-closed/
LOCATION:Sweet Peas Village\, 836 Middle Road\, East Greenwich\, 02818\, United States
END:VEVENT
BEGIN:VEVENT
DTSTART;VALUE=DATE:20161111
DTEND;VALUE=DATE:20161112
DTSTAMP:20260421T084423
CREATED:20160930T180512Z
LAST-MODIFIED:20160930T180512Z
UID:721-1478822400-1478908799@sweetpeasvillage.com
SUMMARY:Veteran's Day - SPV Closed
DESCRIPTION:
URL:https://sweetpeasvillage.com/event/veterans-day-spv-closed/
LOCATION:Sweet Peas Village\, 836 Middle Road\, East Greenwich\, 02818\, United States
END:VEVENT
BEGIN:VEVENT
DTSTART;TZID=America/New_York:20161105T120000
DTEND;TZID=America/New_York:20161105T150000
DTSTAMP:20260421T084423
CREATED:20160930T180445Z
LAST-MODIFIED:20161025T211941Z
UID:720-1478347200-1478358000@sweetpeasvillage.com
SUMMARY:Fall Fest
DESCRIPTION:fallfest
URL:https://sweetpeasvillage.com/event/fall-fest/
LOCATION:Sweet Peas Village\, 836 Middle Road\, East Greenwich\, 02818\, United States
END:VEVENT
BEGIN:VEVENT
DTSTART;TZID=America/New_York:20161101T080000
DTEND;TZID=America/New_York:20161101T170000
DTSTAMP:20260421T084423
CREATED:20161027T164752Z
LAST-MODIFIED:20161027T164752Z
UID:761-1477987200-1478019600@sweetpeasvillage.com
SUMMARY:Wild Harvest Lunch Menu
DESCRIPTION:Please click the link below for our monthly lunch menu! \nNovember Calendar
URL:https://sweetpeasvillage.com/event/wild-harvest-lunch-menu-2/
LOCATION:Sweet Peas Village\, 836 Middle Road\, East Greenwich\, 02818\, United States
END:VEVENT
BEGIN:VEVENT
DTSTART;TZID=America/New_York:20161031T150000
DTEND;TZID=America/New_York:20161031T163000
DTSTAMP:20260421T084423
CREATED:20160930T180111Z
LAST-MODIFIED:20160930T180111Z
UID:718-1477926000-1477931400@sweetpeasvillage.com
SUMMARY:Halloween Party & Parade
DESCRIPTION:
URL:https://sweetpeasvillage.com/event/halloween-party-parade/
LOCATION:Sweet Peas Village\, 836 Middle Road\, East Greenwich\, 02818\, United States
END:VEVENT
BEGIN:VEVENT
DTSTART;TZID=America/New_York:20161031T080000
DTEND;TZID=America/New_York:20161104T170000
DTSTAMP:20260421T084423
CREATED:20160930T180420Z
LAST-MODIFIED:20161019T140152Z
UID:719-1477900800-1478278800@sweetpeasvillage.com
SUMMARY:Spirit Week!
DESCRIPTION:Monday: Halloween Costume \nTuesday: Pajama Day \nWednesday: Crazy Hair & Hat Day \nThursday: Sports Day \nFriday: Career Day \n  \nspvspiritweek
URL:https://sweetpeasvillage.com/event/spirit-week/
LOCATION:Sweet Peas Village\, 836 Middle Road\, East Greenwich\, 02818\, United States
END:VEVENT
END:VCALENDAR