BEGIN:VCALENDAR
VERSION:2.0
PRODID:-//Sweet Peas Village - ECPv6.15.17.1//NONSGML v1.0//EN
CALSCALE:GREGORIAN
METHOD:PUBLISH
X-WR-CALNAME:Sweet Peas Village
X-ORIGINAL-URL:https://sweetpeasvillage.com
X-WR-CALDESC:Events for Sweet Peas Village
REFRESH-INTERVAL;VALUE=DURATION:PT1H
X-Robots-Tag:noindex
X-PUBLISHED-TTL:PT1H
BEGIN:VTIMEZONE
TZID:America/New_York
BEGIN:DAYLIGHT
TZOFFSETFROM:-0500
TZOFFSETTO:-0400
TZNAME:EDT
DTSTART:20150308T070000
END:DAYLIGHT
BEGIN:STANDARD
TZOFFSETFROM:-0400
TZOFFSETTO:-0500
TZNAME:EST
DTSTART:20151101T060000
END:STANDARD
BEGIN:DAYLIGHT
TZOFFSETFROM:-0500
TZOFFSETTO:-0400
TZNAME:EDT
DTSTART:20160313T070000
END:DAYLIGHT
BEGIN:STANDARD
TZOFFSETFROM:-0400
TZOFFSETTO:-0500
TZNAME:EST
DTSTART:20161106T060000
END:STANDARD
BEGIN:DAYLIGHT
TZOFFSETFROM:-0500
TZOFFSETTO:-0400
TZNAME:EDT
DTSTART:20170312T070000
END:DAYLIGHT
BEGIN:STANDARD
TZOFFSETFROM:-0400
TZOFFSETTO:-0500
TZNAME:EST
DTSTART:20171105T060000
END:STANDARD
END:VTIMEZONE
BEGIN:VEVENT
DTSTART;TZID=America/New_York:20161014T073000
DTEND;TZID=America/New_York:20161014T223000
DTSTAMP:20260421T131909
CREATED:20160930T175633Z
LAST-MODIFIED:20160930T175633Z
UID:717-1476430200-1476484200@sweetpeasvillage.com
SUMMARY:Flu Clinic - Energy Center
DESCRIPTION:
URL:https://sweetpeasvillage.com/event/flu-clinic/
LOCATION:Sweet Peas Village\, 836 Middle Road\, East Greenwich\, 02818\, United States
END:VEVENT
BEGIN:VEVENT
DTSTART;VALUE=DATE:20161010
DTEND;VALUE=DATE:20161011
DTSTAMP:20260421T131909
CREATED:20161010T175545Z
LAST-MODIFIED:20160930T175830Z
UID:716-1476057600-1476143999@sweetpeasvillage.com
SUMMARY:Columbus Day - SPV Closed
DESCRIPTION:
URL:https://sweetpeasvillage.com/event/columbus-day-spv-closed/
LOCATION:Sweet Peas Village\, 836 Middle Road\, East Greenwich\, 02818\, United States
END:VEVENT
BEGIN:VEVENT
DTSTART;TZID=America/New_York:20161006T180000
DTEND;TZID=America/New_York:20161006T200000
DTSTAMP:20260421T131909
CREATED:20160930T175406Z
LAST-MODIFIED:20160930T181115Z
UID:715-1475776800-1475784000@sweetpeasvillage.com
SUMMARY:Pea Wees & Honeysuckles Parent/Teacher Pot Luck Dinner
DESCRIPTION:Join us for our annual parent teacher pot luck dinners!  Sign up sheets with specifics are outside your child’s classroom!
URL:https://sweetpeasvillage.com/event/pea-wees-honeysuckles-parentteacher-pot-luck-dinner/
LOCATION:Sweet Peas Village\, 836 Middle Road\, East Greenwich\, 02818\, United States
END:VEVENT
BEGIN:VEVENT
DTSTART;TZID=America/New_York:20161005T060000
DTEND;TZID=America/New_York:20161005T200000
DTSTAMP:20260421T131909
CREATED:20160930T175330Z
LAST-MODIFIED:20160930T181047Z
UID:714-1475647200-1475697600@sweetpeasvillage.com
SUMMARY:Sunshines & Pre-K Parent/Teacher Pot Luck Dinner
DESCRIPTION:Join us for our annual parent teacher pot luck dinners!  Sign up sheets with specifics are outside your child’s classroom!
URL:https://sweetpeasvillage.com/event/sunshines-pre-k-parentteacher-pot-luck-dinner/
LOCATION:Sweet Peas Village\, 836 Middle Road\, East Greenwich\, 02818\, United States
END:VEVENT
BEGIN:VEVENT
DTSTART;TZID=America/New_York:20161004T180000
DTEND;TZID=America/New_York:20161004T200000
DTSTAMP:20260421T131909
CREATED:20160930T175244Z
LAST-MODIFIED:20160930T181019Z
UID:713-1475604000-1475611200@sweetpeasvillage.com
SUMMARY:Nursery School & Kindergarten Parent/Teacher Pot Luck Dinner
DESCRIPTION:Join us for our annual parent teacher pot luck dinners!  Sign up sheets with specifics are outside your child’s classroom!
URL:https://sweetpeasvillage.com/event/nursery-school-kindergarten-parentteacher-pot-luck-dinner/
LOCATION:Sweet Peas Village\, 836 Middle Road\, East Greenwich\, 02818\, United States
END:VEVENT
BEGIN:VEVENT
DTSTART;TZID=America/New_York:20161003T180000
DTEND;TZID=America/New_York:20161003T200000
DTSTAMP:20260421T131909
CREATED:20160930T175153Z
LAST-MODIFIED:20160930T180954Z
UID:712-1475517600-1475524800@sweetpeasvillage.com
SUMMARY:Peanuts Parent/Teacher Pot Luck Dinner
DESCRIPTION:Join us for our annual parent teacher pot luck dinners!  Sign up sheets with specifics are outside your child’s classroom!
URL:https://sweetpeasvillage.com/event/peanuts-parentteacher-pot-luck-dinner/
LOCATION:Sweet Peas Village\, 836 Middle Road\, East Greenwich\, 02818\, United States
END:VEVENT
BEGIN:VEVENT
DTSTART;TZID=America/New_York:20161001T080000
DTEND;TZID=America/New_York:20161001T170000
DTSTAMP:20260421T131909
CREATED:20161019T140752Z
LAST-MODIFIED:20161019T140752Z
UID:736-1475308800-1475341200@sweetpeasvillage.com
SUMMARY:Wild Harvest Lunch Menu
DESCRIPTION:Please click the link below for our monthly lunch menu! \nWild Harvest Lunch
URL:https://sweetpeasvillage.com/event/wild-harvest-lunch-menu/
LOCATION:Sweet Peas Village\, 836 Middle Road\, East Greenwich\, 02818\, United States
END:VEVENT
BEGIN:VEVENT
DTSTART;VALUE=DATE:20160704
DTEND;VALUE=DATE:20160705
DTSTAMP:20260421T131909
CREATED:20160504T151631Z
LAST-MODIFIED:20160504T151734Z
UID:693-1467590400-1467676799@sweetpeasvillage.com
SUMMARY:Independence Day - SPV Closed
DESCRIPTION:We will be closed for Independence Day!  Enjoy the long weekend with friends & family!
URL:https://sweetpeasvillage.com/event/4th-july-spv-closed/
LOCATION:Sweet Peas Village\, 836 Middle Road\, East Greenwich\, 02818\, United States
ATTACH;FMTTYPE=image/png:https://sweetpeasvillage.com/wp-content/uploads/2016/05/1.png
END:VEVENT
BEGIN:VEVENT
DTSTART;VALUE=DATE:20160627
DTEND;VALUE=DATE:20160628
DTSTAMP:20260421T131909
CREATED:20160504T151337Z
LAST-MODIFIED:20160504T151337Z
UID:692-1466985600-1467071999@sweetpeasvillage.com
SUMMARY:Summer Camp Starts
DESCRIPTION:
URL:https://sweetpeasvillage.com/event/summer-camp-starts/
LOCATION:Sweet Peas Village\, 836 Middle Road\, East Greenwich\, 02818\, United States
END:VEVENT
BEGIN:VEVENT
DTSTART;TZID=America/New_York:20160624T140000
DTEND;TZID=America/New_York:20160624T160000
DTSTAMP:20260421T131909
CREATED:20160504T150903Z
LAST-MODIFIED:20160504T150903Z
UID:689-1466776800-1466784000@sweetpeasvillage.com
SUMMARY:Kindergarten Graduation
DESCRIPTION:
URL:https://sweetpeasvillage.com/event/kindergarten-graduation/
LOCATION:Sweet Peas Village\, 836 Middle Road\, East Greenwich\, 02818\, United States
END:VEVENT
BEGIN:VEVENT
DTSTART;TZID=America/New_York:20160624T100000
DTEND;TZID=America/New_York:20160624T120000
DTSTAMP:20260421T131909
CREATED:20160504T150841Z
LAST-MODIFIED:20160504T150841Z
UID:688-1466762400-1466769600@sweetpeasvillage.com
SUMMARY:Nursery School Graduation
DESCRIPTION:
URL:https://sweetpeasvillage.com/event/nursery-school-graduation/
LOCATION:Sweet Peas Village\, 836 Middle Road\, East Greenwich\, 02818\, United States
END:VEVENT
BEGIN:VEVENT
DTSTART;TZID=America/New_York:20160623T150000
DTEND;TZID=America/New_York:20160623T170000
DTSTAMP:20260421T131909
CREATED:20160504T150606Z
LAST-MODIFIED:20160504T150716Z
UID:686-1466694000-1466701200@sweetpeasvillage.com
SUMMARY:Pre-K B Graduation
DESCRIPTION:
URL:https://sweetpeasvillage.com/event/annex-peanuts-graduation/
LOCATION:Sweet Peas Village\, 836 Middle Road\, East Greenwich\, 02818\, United States
END:VEVENT
BEGIN:VEVENT
DTSTART;TZID=America/New_York:20160623T120000
DTEND;TZID=America/New_York:20160623T140000
DTSTAMP:20260421T131909
CREATED:20160504T150747Z
LAST-MODIFIED:20160504T150747Z
UID:687-1466683200-1466690400@sweetpeasvillage.com
SUMMARY:Pre-K A Graduation
DESCRIPTION:
URL:https://sweetpeasvillage.com/event/pre-k-graduation/
LOCATION:Sweet Peas Village\, 836 Middle Road\, East Greenwich\, 02818\, United States
END:VEVENT
BEGIN:VEVENT
DTSTART;TZID=America/New_York:20160623T090000
DTEND;TZID=America/New_York:20160623T110000
DTSTAMP:20260421T131909
CREATED:20160504T151110Z
LAST-MODIFIED:20160504T151110Z
UID:691-1466672400-1466679600@sweetpeasvillage.com
SUMMARY:Annex Peanuts Graduation
DESCRIPTION:
URL:https://sweetpeasvillage.com/event/annex-peanuts-graduation-2/
LOCATION:Sweet Peas Village\, 836 Middle Road\, East Greenwich\, 02818\, United States
END:VEVENT
BEGIN:VEVENT
DTSTART;TZID=America/New_York:20160622T140000
DTEND;TZID=America/New_York:20160622T160000
DTSTAMP:20260421T131909
CREATED:20160504T150500Z
LAST-MODIFIED:20160504T150516Z
UID:685-1466604000-1466611200@sweetpeasvillage.com
SUMMARY:Village Sunshines Graduation
DESCRIPTION:
URL:https://sweetpeasvillage.com/event/annex-sunshines-graduation/
LOCATION:Sweet Peas Village\, 836 Middle Road\, East Greenwich\, 02818\, United States
END:VEVENT
BEGIN:VEVENT
DTSTART;TZID=America/New_York:20160622T100000
DTEND;TZID=America/New_York:20160622T120000
DTSTAMP:20260421T131909
CREATED:20160504T151001Z
LAST-MODIFIED:20160504T151222Z
UID:690-1466589600-1466596800@sweetpeasvillage.com
SUMMARY:Annex Sunshines Graduation
DESCRIPTION:
URL:https://sweetpeasvillage.com/event/annex-sunshines/
LOCATION:Sweet Peas Village\, 836 Middle Road\, East Greenwich\, 02818\, United States
END:VEVENT
BEGIN:VEVENT
DTSTART;TZID=America/New_York:20160621T140000
DTEND;TZID=America/New_York:20160621T160000
DTSTAMP:20260421T131909
CREATED:20160504T150424Z
LAST-MODIFIED:20160504T150424Z
UID:684-1466517600-1466524800@sweetpeasvillage.com
SUMMARY:Village Peanuts Graduation
DESCRIPTION:
URL:https://sweetpeasvillage.com/event/village-peanuts-graduation/
LOCATION:Sweet Peas Village\, 836 Middle Road\, East Greenwich\, 02818\, United States
END:VEVENT
BEGIN:VEVENT
DTSTART;TZID=America/New_York:20160621T100000
DTEND;TZID=America/New_York:20160621T120000
DTSTAMP:20260421T131909
CREATED:20160504T150257Z
LAST-MODIFIED:20160504T150257Z
UID:682-1466503200-1466510400@sweetpeasvillage.com
SUMMARY:Pre-K C Graduation
DESCRIPTION:
URL:https://sweetpeasvillage.com/event/pre-k-c-graduation/
LOCATION:Sweet Peas Village\, 836 Middle Road\, East Greenwich\, 02818\, United States
END:VEVENT
BEGIN:VEVENT
DTSTART;VALUE=DATE:20160530
DTEND;VALUE=DATE:20160531
DTSTAMP:20260421T131909
CREATED:20160407T181116Z
LAST-MODIFIED:20160407T181116Z
UID:676-1464566400-1464652799@sweetpeasvillage.com
SUMMARY:Memorial Day - SPV Closed
DESCRIPTION:We will be closed for Memorial Day.  Enjoy the long weekend with friends & family!
URL:https://sweetpeasvillage.com/event/memorial-day-spv-closed/
LOCATION:Sweet Peas Village\, 836 Middle Road\, East Greenwich\, 02818\, United States
END:VEVENT
BEGIN:VEVENT
DTSTART;TZID=America/New_York:20160516T080000
DTEND;TZID=America/New_York:20160520T170000
DTSTAMP:20260421T131909
CREATED:20160404T142312Z
LAST-MODIFIED:20160404T142312Z
UID:660-1463385600-1463763600@sweetpeasvillage.com
SUMMARY:Scholastic Book Fair
DESCRIPTION:Join us for our annual Scholastic Book Fair in the Energy Center all this week!
URL:https://sweetpeasvillage.com/event/scholastic-book-fair/
LOCATION:Sweet Peas Village\, 836 Middle Road\, East Greenwich\, 02818\, United States
ATTACH;FMTTYPE=image/jpeg:https://sweetpeasvillage.com/wp-content/uploads/2016/04/scholastic.jpg
END:VEVENT
BEGIN:VEVENT
DTSTART;TZID=America/New_York:20160513T180000
DTEND;TZID=America/New_York:20160513T200000
DTSTAMP:20260421T131909
CREATED:20160404T142129Z
LAST-MODIFIED:20160404T142407Z
UID:659-1463162400-1463169600@sweetpeasvillage.com
SUMMARY:Art Show & Gallery Night
DESCRIPTION:
URL:https://sweetpeasvillage.com/event/art-show-gallery-night/
LOCATION:Sweet Peas Village\, 836 Middle Road\, East Greenwich\, 02818\, United States
ATTACH;FMTTYPE=image/jpeg:https://sweetpeasvillage.com/wp-content/uploads/2016/04/11233564_460240280801436_8289370802365401182_n.jpg
END:VEVENT
BEGIN:VEVENT
DTSTART;TZID=America/New_York:20160510T080000
DTEND;TZID=America/New_York:20160512T170000
DTSTAMP:20260421T131909
CREATED:20160404T142016Z
LAST-MODIFIED:20160404T142432Z
UID:658-1462867200-1463072400@sweetpeasvillage.com
SUMMARY:Art Show
DESCRIPTION:
URL:https://sweetpeasvillage.com/event/art-show/
LOCATION:T’s Restaurant\, 5600 Post Road\, East Greenwich\, RI\, 02818\, United States
ATTACH;FMTTYPE=image/jpeg:https://sweetpeasvillage.com/wp-content/uploads/2016/04/11233564_460240280801436_8289370802365401182_n.jpg
END:VEVENT
BEGIN:VEVENT
DTSTART;TZID=America/New_York:20160412T073000
DTEND;TZID=America/New_York:20160412T093000
DTSTAMP:20260421T131909
CREATED:20160407T160955Z
LAST-MODIFIED:20160407T160955Z
UID:670-1460446200-1460453400@sweetpeasvillage.com
SUMMARY:Car Seat Safety Check
DESCRIPTION:Sgt. John Carter from East Greenwich Police will be here Tuesday\, April 12th from 7:30-9:30 am doing car seat safety checks!
URL:https://sweetpeasvillage.com/event/car-seat-safety-check/
LOCATION:Sweet Peas Village\, 836 Middle Road\, East Greenwich\, 02818\, United States
END:VEVENT
BEGIN:VEVENT
DTSTART;VALUE=DATE:20160411
DTEND;VALUE=DATE:20160416
DTSTAMP:20260421T131909
CREATED:20160404T140243Z
LAST-MODIFIED:20160405T122821Z
UID:648-1460332800-1460764799@sweetpeasvillage.com
SUMMARY:Week of the Young Child
DESCRIPTION:The Week of the Young Child is a special week sponsored in Rhode Island by the Rhode Island Association for the Education of Young Children and nation wide by the National Association for the Education of Young Children.  The goal is to heighten public awareness about the needs and rights of young children and their families. \nSchedule of Events \nMonday – Bubble & Chalk Extravaganza – Crazy Hair Day \nTuesday – Yoga & Smoothies – Mismatch Day \nWednesday – Big Joe the Story Teller – Patriotic Day \nThursday – Classroom Block Towers – Costume Day \nFriday – Ice Cream Social – Think Spring Dress-Up
URL:https://sweetpeasvillage.com/event/week-young-child/
LOCATION:Sweet Peas Village\, 836 Middle Road\, East Greenwich\, 02818\, United States
CATEGORIES:School Event
ATTACH;FMTTYPE=image/jpeg:https://sweetpeasvillage.com/wp-content/uploads/2016/04/week-of-young-e1459777813624.jpg
END:VEVENT
BEGIN:VEVENT
DTSTART;VALUE=DATE:20160401
DTEND;VALUE=DATE:20160501
DTSTAMP:20260421T131909
CREATED:20160316T143230Z
LAST-MODIFIED:20160404T140455Z
UID:621-1459468800-1462060799@sweetpeasvillage.com
SUMMARY:Teacher Appreciation Month
DESCRIPTION:Take some time to thank your teachers for all the work they do all year long! Pick-up your thank you note in the lobby and let your favorite teachers know how much you appreciate them.
URL:https://sweetpeasvillage.com/event/teacher-appreciation-month/
LOCATION:Sweet Peas Village\, 836 Middle Road\, East Greenwich\, 02818\, United States
CATEGORIES:School Event
ATTACH;FMTTYPE=image/png:https://sweetpeasvillage.com/wp-content/uploads/2016/03/teacher-appreciation.png
END:VEVENT
BEGIN:VEVENT
DTSTART;VALUE=DATE:20160329
DTEND;VALUE=DATE:20160401
DTSTAMP:20260421T131909
CREATED:20160210T151033Z
LAST-MODIFIED:20160210T151033Z
UID:243-1459209600-1459468799@sweetpeasvillage.com
SUMMARY:Spring Photos
DESCRIPTION:
URL:https://sweetpeasvillage.com/event/spring-photos/
LOCATION:Sweet Peas Village\, 836 Middle Road\, East Greenwich\, 02818\, United States
CATEGORIES:School Event
END:VEVENT
BEGIN:VEVENT
DTSTART;TZID=America/New_York:20160325T100000
DTEND;TZID=America/New_York:20160325T113000
DTSTAMP:20260421T131909
CREATED:20160210T150941Z
LAST-MODIFIED:20160210T150941Z
UID:242-1458900000-1458905400@sweetpeasvillage.com
SUMMARY:Village Sunshines & Pre-K B Grandfriends Day
DESCRIPTION:
URL:https://sweetpeasvillage.com/event/village-sunshines-pre-k-b-grandfriends-day/
LOCATION:Sweet Peas Village\, 836 Middle Road\, East Greenwich\, 02818\, United States
CATEGORIES:School Event
END:VEVENT
BEGIN:VEVENT
DTSTART;TZID=America/New_York:20160324T100000
DTEND;TZID=America/New_York:20160324T113000
DTSTAMP:20260421T131909
CREATED:20160210T150826Z
LAST-MODIFIED:20160210T150826Z
UID:240-1458813600-1458819000@sweetpeasvillage.com
SUMMARY:Pre-K C Grandfriends Day
DESCRIPTION:
URL:https://sweetpeasvillage.com/event/pre-k-c-grandfriends-day/
LOCATION:Sweet Peas Village\, 836 Middle Road\, East Greenwich\, 02818\, United States
CATEGORIES:School Event
END:VEVENT
BEGIN:VEVENT
DTSTART;TZID=America/New_York:20160324T100000
DTEND;TZID=America/New_York:20160324T110000
DTSTAMP:20260421T131909
CREATED:20160210T150904Z
LAST-MODIFIED:20160210T150904Z
UID:241-1458813600-1458817200@sweetpeasvillage.com
SUMMARY:Kindergarten Grandfriends Day
DESCRIPTION:
URL:https://sweetpeasvillage.com/event/kindergarten-grandfriends-day/
LOCATION:Sweet Peas Village\, 836 Middle Road\, East Greenwich\, 02818\, United States
CATEGORIES:School Event
END:VEVENT
BEGIN:VEVENT
DTSTART;TZID=America/New_York:20160323T100000
DTEND;TZID=America/New_York:20160323T113000
DTSTAMP:20260421T131909
CREATED:20160210T150725Z
LAST-MODIFIED:20160210T150725Z
UID:239-1458727200-1458732600@sweetpeasvillage.com
SUMMARY:Sunshine C & Nursery School Grandfriends Day
DESCRIPTION:
URL:https://sweetpeasvillage.com/event/sunshine-c-nursery-school-grandfriends-day/
CATEGORIES:School Event
END:VEVENT
END:VCALENDAR